BEGIN:VCALENDAR
VERSION:2.0
PRODID:-//Aspire Living &amp; Learning - ECPv6.15.20//NONSGML v1.0//EN
CALSCALE:GREGORIAN
METHOD:PUBLISH
X-WR-CALNAME:Aspire Living &amp; Learning
X-ORIGINAL-URL:https://allinc.org
X-WR-CALDESC:Events for Aspire Living &amp; Learning
REFRESH-INTERVAL;VALUE=DURATION:PT1H
X-Robots-Tag:noindex
X-PUBLISHED-TTL:PT1H
BEGIN:VTIMEZONE
TZID:America/New_York
BEGIN:DAYLIGHT
TZOFFSETFROM:-0500
TZOFFSETTO:-0400
TZNAME:EDT
DTSTART:20250309T070000
END:DAYLIGHT
BEGIN:STANDARD
TZOFFSETFROM:-0400
TZOFFSETTO:-0500
TZNAME:EST
DTSTART:20251102T060000
END:STANDARD
BEGIN:DAYLIGHT
TZOFFSETFROM:-0500
TZOFFSETTO:-0400
TZNAME:EDT
DTSTART:20260308T070000
END:DAYLIGHT
BEGIN:STANDARD
TZOFFSETFROM:-0400
TZOFFSETTO:-0500
TZNAME:EST
DTSTART:20261101T060000
END:STANDARD
BEGIN:DAYLIGHT
TZOFFSETFROM:-0500
TZOFFSETTO:-0400
TZNAME:EDT
DTSTART:20270314T070000
END:DAYLIGHT
BEGIN:STANDARD
TZOFFSETFROM:-0400
TZOFFSETTO:-0500
TZNAME:EST
DTSTART:20271107T060000
END:STANDARD
END:VTIMEZONE
BEGIN:VEVENT
DTSTART;VALUE=DATE:20260421
DTEND;VALUE=DATE:20260424
DTSTAMP:20260422T013833
CREATED:20260310T154942Z
LAST-MODIFIED:20260310T155831Z
UID:10000183-1776729600-1776988799@allinc.org
SUMMARY:ANCOR Connect 2026
DESCRIPTION:Join the Aspire team at ANCOR Connect 2026\nANCOR Connect 2026’s theme\, “Navigating The Now”\, brings together leaders from across the disability services field to explore innovation\, policy\, and the future of supports for people with intellectual and developmental disabilities.\n\nAspire Living & Learning’s Dr. Miller will present “Education to Enabling Technology: A Leadership Journey\,” sharing insights on how leadership\, technology\, and person-centered approaches can expand opportunities and improve outcomes for individuals with disabilities.\nLearn more about Ancor Connect 2026. \n 
URL:https://allinc.org/event/ancor-connect-2026/
LOCATION:Omni Boston Hotel at the Seaport\, 450 Summer Street\, Boston\, 02210\, United States
CATEGORIES:Conference
ATTACH;FMTTYPE=image/jpeg:https://allinc.org/wp-content/uploads/2026/03/ancorConnect.avif
END:VEVENT
BEGIN:VEVENT
DTSTART;TZID=America/New_York:20260422T160000
DTEND;TZID=America/New_York:20260422T170000
DTSTAMP:20260422T013833
CREATED:20260320T174252Z
LAST-MODIFIED:20260320T174357Z
UID:10000180-1776873600-1776877200@allinc.org
SUMMARY:Webinar: Supporting Children and Adolescents in Uncertain Times
DESCRIPTION:Join Aspire Living & Learning’s experts for a timely session\, titled: “Supporting Children and Adolescents in Uncertain Times“. \nWebinar Details\n\nDate: April 22\nTime: 4:00 – 5:00 PM (ET)\n\nPresenters\n\nCourtney Cotter\, Ph.D.\, BCBA-D | Senior Director of Children’s Mental Health\nMarlena Minkos\, Ph.D.\, NCSP\, BCBA | Psychologist\nChelsea Colonese | School Psychologist\n\n  \nOverview\nAs schools continue navigating ongoing uncertainty\, many students are experiencing heightened anxiety\, emotional dysregulation\, and behavioral challenges that impact classrooms and learning environments. This session provides school leaders and student support professionals with practical\, school-ready strategies to promote emotional safety\, maintain stabilizing routines\, build healthy coping skills\, and recognize when additional support may be needed. \nWhat You’ll Learn\nParticipants will gain practical insights they can apply immediately in their school communities\, including: \n\nPromoting Emotional SafetyHow to help students feel secure\, supported\, and understood even when circumstances feel unpredictable.\nMaintaining Routine and StructureStrategies for creating stability and consistency that help students stay regulated and engaged.\nDeveloping Healthy Coping StrategiesTools and techniques educators and caregivers can use to help students build resilience and manage big emotions.\nRecognizing When to Seek Additional SupportKey behaviors and signals that may indicate a student needs additional intervention or behavioral health support.\n\n  \nSave your spot and register today.
URL:https://allinc.org/event/webinar-practical-tools-student-anxiety/
CATEGORIES:Webinar
ATTACH;FMTTYPE=image/jpeg:https://allinc.org/wp-content/uploads/2026/03/webinar_header.avif
LOCATION:https://allinc.org/event/webinar-practical-tools-student-anxiety/
END:VEVENT
END:VCALENDAR