BEGIN:VCALENDAR
VERSION:2.0
PRODID:-//Aspire Living &amp; Learning - ECPv6.15.20//NONSGML v1.0//EN
CALSCALE:GREGORIAN
METHOD:PUBLISH
X-ORIGINAL-URL:https://allinc.org
X-WR-CALDESC:Events for Aspire Living &amp; Learning
REFRESH-INTERVAL;VALUE=DURATION:PT1H
X-Robots-Tag:noindex
X-PUBLISHED-TTL:PT1H
BEGIN:VTIMEZONE
TZID:America/New_York
BEGIN:DAYLIGHT
TZOFFSETFROM:-0500
TZOFFSETTO:-0400
TZNAME:EDT
DTSTART:20220313T070000
END:DAYLIGHT
BEGIN:STANDARD
TZOFFSETFROM:-0400
TZOFFSETTO:-0500
TZNAME:EST
DTSTART:20221106T060000
END:STANDARD
BEGIN:DAYLIGHT
TZOFFSETFROM:-0500
TZOFFSETTO:-0400
TZNAME:EDT
DTSTART:20230312T070000
END:DAYLIGHT
BEGIN:STANDARD
TZOFFSETFROM:-0400
TZOFFSETTO:-0500
TZNAME:EST
DTSTART:20231105T060000
END:STANDARD
BEGIN:DAYLIGHT
TZOFFSETFROM:-0500
TZOFFSETTO:-0400
TZNAME:EDT
DTSTART:20240310T070000
END:DAYLIGHT
BEGIN:STANDARD
TZOFFSETFROM:-0400
TZOFFSETTO:-0500
TZNAME:EST
DTSTART:20241103T060000
END:STANDARD
END:VTIMEZONE
BEGIN:VEVENT
DTSTART;TZID=America/New_York:20230606T100000
DTEND;TZID=America/New_York:20230606T140000
DTSTAMP:20260421T130106
CREATED:20230525T180826Z
LAST-MODIFIED:20230525T184056Z
UID:10000050-1686045600-1686060000@allinc.org
SUMMARY:Aspire Maryland Open House
DESCRIPTION:Join us at Aspire Living & Learning’s Open House event! Experience an engaging and informative day where you’ll witness Aspire’s exceptional programming in action\, explore our state-of-the-art facilities\, immerse yourself in our vibrant community participation program\, and discover exciting career opportunities. \nWe are proud to open our doors to all visitors who are curious to see firsthand how Aspire serves children and adults who are discovering their passions\, unlocking potential\, and thriving. Whether you’re a prospective participant\, a family member\, a community member\, or a potential employee\, this event is tailored to provide valuable insights into our organization and the transformative work we do. \nEngage with our knowledgeable staff\, who will be on hand to answer your questions and provide valuable information about various roles\, qualifications\, and the rewarding experience of working with us. Learn about the professional development opportunities we offer and the supportive work culture that distinguishes us as an employer of choice. \nRSVP Now!
URL:https://allinc.org/event/md-open-house-2023/
LOCATION:Aspire Living & Learning Bel Air Office\, 2109 Laurel Bush Road\, Bel Air\, MD\, 21015
CATEGORIES:Career Fair,Community Event
ATTACH;FMTTYPE=image/jpeg:https://allinc.org/wp-content/uploads/2023/05/image3-scaled-e1685038080609.jpeg
END:VEVENT
END:VCALENDAR