BEGIN:VCALENDAR
VERSION:2.0
PRODID:-//Aspire Living &amp; Learning - ECPv6.15.20//NONSGML v1.0//EN
CALSCALE:GREGORIAN
METHOD:PUBLISH
X-ORIGINAL-URL:https://allinc.org
X-WR-CALDESC:Events for Aspire Living &amp; Learning
REFRESH-INTERVAL;VALUE=DURATION:PT1H
X-Robots-Tag:noindex
X-PUBLISHED-TTL:PT1H
BEGIN:VTIMEZONE
TZID:America/New_York
BEGIN:DAYLIGHT
TZOFFSETFROM:-0500
TZOFFSETTO:-0400
TZNAME:EDT
DTSTART:20220313T070000
END:DAYLIGHT
BEGIN:STANDARD
TZOFFSETFROM:-0400
TZOFFSETTO:-0500
TZNAME:EST
DTSTART:20221106T060000
END:STANDARD
BEGIN:DAYLIGHT
TZOFFSETFROM:-0500
TZOFFSETTO:-0400
TZNAME:EDT
DTSTART:20230312T070000
END:DAYLIGHT
BEGIN:STANDARD
TZOFFSETFROM:-0400
TZOFFSETTO:-0500
TZNAME:EST
DTSTART:20231105T060000
END:STANDARD
BEGIN:DAYLIGHT
TZOFFSETFROM:-0500
TZOFFSETTO:-0400
TZNAME:EDT
DTSTART:20240310T070000
END:DAYLIGHT
BEGIN:STANDARD
TZOFFSETFROM:-0400
TZOFFSETTO:-0500
TZNAME:EST
DTSTART:20241103T060000
END:STANDARD
END:VTIMEZONE
BEGIN:VEVENT
DTSTART;TZID=America/New_York:20231017T150000
DTEND;TZID=America/New_York:20231017T220000
DTSTAMP:20260420T073759
CREATED:20231012T115725Z
LAST-MODIFIED:20250619T145633Z
UID:10000055-1697554800-1697580000@allinc.org
SUMMARY:Texas Roadhouse Fundraiser
DESCRIPTION:Come help raise money and support Aspire Living & Learning by dining at Texas Roadhouse on Tuesday\, October 17th! From 3 PM to 10 PM\, 10% of dine-in and to-go purchases made with a fundraiser flyer presented during this timeframe will be donated to help fuel the work of empowering neurodiverse adults to grow\, develop\, and unlock their potential. \nPlease present THIS FLYER to the Fallston\, MD location during the event to ensure Texas Roadhouse donates 10% of your total food purchases to Aspire. \n 
URL:https://allinc.org/event/tr-october-fundraiser/
LOCATION:Texas Roadhouse Fallston\, MD\, 2428 Belair Road\, Fallston\, 21047\, United States
CATEGORIES:Community Event
ATTACH;FMTTYPE=image/png:https://allinc.org/wp-content/uploads/2023/10/texas-roadhouse-linkedin.png
END:VEVENT
END:VCALENDAR