BEGIN:VCALENDAR
VERSION:2.0
PRODID:-//Aspire Living &amp; Learning - ECPv6.15.20//NONSGML v1.0//EN
CALSCALE:GREGORIAN
METHOD:PUBLISH
X-WR-CALNAME:Aspire Living &amp; Learning
X-ORIGINAL-URL:https://allinc.org
X-WR-CALDESC:Events for Aspire Living &amp; Learning
REFRESH-INTERVAL;VALUE=DURATION:PT1H
X-Robots-Tag:noindex
X-PUBLISHED-TTL:PT1H
BEGIN:VTIMEZONE
TZID:America/New_York
BEGIN:DAYLIGHT
TZOFFSETFROM:-0500
TZOFFSETTO:-0400
TZNAME:EDT
DTSTART:20250309T070000
END:DAYLIGHT
BEGIN:STANDARD
TZOFFSETFROM:-0400
TZOFFSETTO:-0500
TZNAME:EST
DTSTART:20251102T060000
END:STANDARD
BEGIN:DAYLIGHT
TZOFFSETFROM:-0500
TZOFFSETTO:-0400
TZNAME:EDT
DTSTART:20260308T070000
END:DAYLIGHT
BEGIN:STANDARD
TZOFFSETFROM:-0400
TZOFFSETTO:-0500
TZNAME:EST
DTSTART:20261101T060000
END:STANDARD
BEGIN:DAYLIGHT
TZOFFSETFROM:-0500
TZOFFSETTO:-0400
TZNAME:EDT
DTSTART:20270314T070000
END:DAYLIGHT
BEGIN:STANDARD
TZOFFSETFROM:-0400
TZOFFSETTO:-0500
TZNAME:EST
DTSTART:20271107T060000
END:STANDARD
END:VTIMEZONE
BEGIN:VEVENT
DTSTART;TZID=America/New_York:20260314T100000
DTEND;TZID=America/New_York:20260314T150000
DTSTAMP:20260419T142713
CREATED:20260306T155753Z
LAST-MODIFIED:20260306T155753Z
UID:10000182-1773482400-1773500400@allinc.org
SUMMARY:2026 6th Annual - disABILITY Summit
DESCRIPTION:Join the Aspire Living & Learning team at 6th annual disABILITY Summit on Saturday\, March 14\, 2026\, at the Great Wolf Lodge Conference Center in Mashantucket\, CT! \nThis is a free\, family-friendly event bringing together families\, caregivers\, educators\, and community members who support children and youth with disabilities. \nThe Summit connects attendees with local service providers\, community organizations\, and valuable resources supporting individuals with disabilities from birth through age 21. \nStop by table #9 to meet the Aspire team and learn how our behavioral health\, educational\, and family support services help children\, adults\, and families thrive. \nAdmission and parking are free\, and all are welcome. \nRegister today to attend. \nIf you have questions\, please email us at disabilitysummit@learn.k12.ct.us
URL:https://allinc.org/event/2026-disability-summit/
LOCATION:201 Rainmaker Dr.\, Mashantucket\, CT\, 201 Rainmaker Dr.\, Mashantucket\, CT\, United States
CATEGORIES:Community Event
ATTACH;FMTTYPE=image/jpeg:https://allinc.org/wp-content/uploads/2026/03/Learn-disABILITY-Summit.avif
END:VEVENT
END:VCALENDAR