BEGIN:VCALENDAR
VERSION:2.0
PRODID:-//Aspire Living &amp; Learning - ECPv6.15.20//NONSGML v1.0//EN
CALSCALE:GREGORIAN
METHOD:PUBLISH
X-ORIGINAL-URL:https://allinc.org
X-WR-CALDESC:Events for Aspire Living &amp; Learning
REFRESH-INTERVAL;VALUE=DURATION:PT1H
X-Robots-Tag:noindex
X-PUBLISHED-TTL:PT1H
BEGIN:VTIMEZONE
TZID:America/New_York
BEGIN:DAYLIGHT
TZOFFSETFROM:-0500
TZOFFSETTO:-0400
TZNAME:EDT
DTSTART:20220313T070000
END:DAYLIGHT
BEGIN:STANDARD
TZOFFSETFROM:-0400
TZOFFSETTO:-0500
TZNAME:EST
DTSTART:20221106T060000
END:STANDARD
BEGIN:DAYLIGHT
TZOFFSETFROM:-0500
TZOFFSETTO:-0400
TZNAME:EDT
DTSTART:20230312T070000
END:DAYLIGHT
BEGIN:STANDARD
TZOFFSETFROM:-0400
TZOFFSETTO:-0500
TZNAME:EST
DTSTART:20231105T060000
END:STANDARD
BEGIN:DAYLIGHT
TZOFFSETFROM:-0500
TZOFFSETTO:-0400
TZNAME:EDT
DTSTART:20240310T070000
END:DAYLIGHT
BEGIN:STANDARD
TZOFFSETFROM:-0400
TZOFFSETTO:-0500
TZNAME:EST
DTSTART:20241103T060000
END:STANDARD
END:VTIMEZONE
BEGIN:VEVENT
DTSTART;TZID=America/New_York:20230422T083000
DTEND;TZID=America/New_York:20230422T130000
DTSTAMP:20260420T211600
CREATED:20230420T130937Z
LAST-MODIFIED:20230420T130937Z
UID:10000045-1682152200-1682168400@allinc.org
SUMMARY:Empowered Expo
DESCRIPTION:This FREE conference for teens and young adults with Individualized Education Programs (IEPs) and 504 Plans\, and their families\, who are planning the journey from high school to adulthood. Aspire is proud to be an exhibitor at the event – so be sure to stop by our table and say hi to members of Aspire’s Day Options team. \nLearn more about the event on Harford County’s website\, HERE!
URL:https://allinc.org/event/empowered-expo/
LOCATION:Bel Air High School\, 100 Heighe Street\, Bel Air\, MD\, United States
CATEGORIES:Resource Fair
ATTACH;FMTTYPE=image/png:https://allinc.org/wp-content/uploads/2023/04/woman-at-a-table-smiling.png
END:VEVENT
BEGIN:VEVENT
DTSTART;TZID=America/New_York:20230325T090000
DTEND;TZID=America/New_York:20230325T130000
DTSTAMP:20260420T211600
CREATED:20230222T201927Z
LAST-MODIFIED:20230222T203656Z
UID:10000020-1679734800-1679749200@allinc.org
SUMMARY:Get Connected: Special Needs Resources Fair
DESCRIPTION:The Get Connected: Resources Fair will bring together Central Maryland families who are looking for services\, products\, and/or agencies. Whether you are looking for resources or looking to participate as an exhibitor\, you will benefit from this one-stop informative event. \nThe Special Needs Resource Fair\, hosted by St. Elizabeth School\, brings together therapists\, experts\, consultants\, products\, and services that foster happy\, healthy\, and productive lives for those with special needs. \nCome visit Aspire Living & Learning at the fair to learn more about how we support neurodiverse children and adults who are discovering their passions\, unlocking potential\, and thriving.
URL:https://allinc.org/event/get-connected-special-needs-resources-fair/
LOCATION:St. Elizabeth School\, 801 Argonne Drive\, Baltimore\, MD\, 21218\, United States
CATEGORIES:Resource Fair
ATTACH;FMTTYPE=image/jpeg:https://allinc.org/wp-content/uploads/2022/09/DSP-Week-2-scaled.jpg
END:VEVENT
END:VCALENDAR